BEGIN:VCALENDAR
PRODID:-//eluceo/ical//2.0/EN
VERSION:2.0
CALSCALE:GREGORIAN
BEGIN:VEVENT
UID:8dbe08c861cba29d6a2629755db8b288
DTSTAMP:20260421T155706Z
SUMMARY:US-China trade update: Imports\, exports\, fentanyl flows\, and bey
 ond
DESCRIPTION:The Peterson Institute for International Economics hosts a time
 ly virtual briefing on US-China trade and tech policy\, just ahead of the 
 anticipated high-level summit between Presidents Donald Trump and Xi Jinpi
 ng. With extensive public focus on tariffs\, this session provides a clear
 \, evidence-based update on the broader state of US-China economic and tec
 hnology relations\, drawing on the latest data and analysis from PIIE expe
 rts. Featuring Chad P. Bown\, Martin Chorzempa\, Mary E. Lovely\, and Marc
 us Noland. View webcast at scheduled time: https://www.piie.com/events/202
 6/us-china-trade-update-imports-exports-fentanyl-flows-and-beyond
DTSTART:20260506T130000Z
DTEND:20260506T140000Z
LOCATION:Virtual Event
END:VEVENT
END:VCALENDAR
